BEGIN:VCALENDAR
VERSION:2.0
PRODID:-//Luz y Conciencia - ECPv6.15.20//NONSGML v1.0//EN
CALSCALE:GREGORIAN
METHOD:PUBLISH
X-WR-CALNAME:Luz y Conciencia
X-ORIGINAL-URL:https://luzyconciencia.es
X-WR-CALDESC:Eventos para Luz y Conciencia
REFRESH-INTERVAL;VALUE=DURATION:PT1H
X-Robots-Tag:noindex
X-PUBLISHED-TTL:PT1H
BEGIN:VTIMEZONE
TZID:UTC
BEGIN:STANDARD
TZOFFSETFROM:+0000
TZOFFSETTO:+0000
TZNAME:UTC
DTSTART:20220101T000000
END:STANDARD
END:VTIMEZONE
BEGIN:VEVENT
DTSTART;TZID=UTC:20230128T100000
DTEND;TZID=UTC:20230129T190000
DTSTAMP:20260422T105726
CREATED:20221202T115547Z
LAST-MODIFIED:20230102T221024Z
UID:10000004-1674900000-1675018800@luzyconciencia.es
SUMMARY:Retiro Virtual: Ábrete a la Abundancia Crística
DESCRIPTION:En este mes de diciembre se abre un portal de abundancia no visto en los últimos años. Acompáñame un fin de semana en streaming con el Arcángel Miguel\, Jesús Sananda y yo misma y te ayudaremos a abrir tus canales Crísticos para que la abundancia del cosmos que se expande en estas fechas pueda llegar a ti fácilmente. \nEste encuentro es para personas que canalizadoras. Es para todos lo niveles de canalización\, no hace falta que seas un experto\, solo que canalices como mínimo un poquito y que tengas muchas ganas de expandir tu energía en familia de luz y con personas que como tú respiran y resuenan con el camino de la conciencia. \nSi hay algún horario en el que no puedas asistir\, no te preocupes: Todos los encuentros quedarán grabados y te los colgaré en tu sesión web para que puedas repetir todos los trabajos energéticos y repasar lo compartido tantas veces como quieras y para siempre. \nLos encuentros se harán por Zoom y en streaming conmigo y mi equipo de canalizadoras madrinas. Son plazas limitadas\, y como ya debes saber cuando hago cursos limitados se llenan rápido. Si tienes claro que quieres asistir no lo dudes y reserva tu plaza  \nPara acceder\, antes debes hacer este test\, así podremos ver si este retiro es para ti: \n  \n \n  \nGrupo de Diciembre completo\, fechas disponibles: Enero. \n 
URL:https://luzyconciencia.es/event/retiro-virtual-abrete-a-la-abundancia-cristica/
ATTACH;FMTTYPE=image/jpeg:https://luzyconciencia.es/wp-content/uploads/2022/11/Retiro-Virtual-Sorteo-3-Cursos-Aprende-a-Canalizar-5.jpg
END:VEVENT
END:VCALENDAR