BEGIN:VCALENDAR
VERSION:2.0
PRODID:-//Luz y Conciencia - ECPv6.15.20//NONSGML v1.0//EN
CALSCALE:GREGORIAN
METHOD:PUBLISH
X-WR-CALNAME:Luz y Conciencia
X-ORIGINAL-URL:https://luzyconciencia.es
X-WR-CALDESC:Eventos para Luz y Conciencia
REFRESH-INTERVAL;VALUE=DURATION:PT1H
X-Robots-Tag:noindex
X-PUBLISHED-TTL:PT1H
BEGIN:VTIMEZONE
TZID:UTC
BEGIN:STANDARD
TZOFFSETFROM:+0000
TZOFFSETTO:+0000
TZNAME:UTC
DTSTART:20230101T000000
END:STANDARD
END:VTIMEZONE
BEGIN:VEVENT
DTSTART;TZID=UTC:20240101T080000
DTEND;TZID=UTC:20240131T170000
DTSTAMP:20260422T105105
CREATED:20231204T094205Z
LAST-MODIFIED:20231207T084441Z
UID:10000572-1704096000-1706720400@luzyconciencia.es
SUMMARY:Aprende a Canalizar con Acompañamiento
DESCRIPTION:Curso 100% online y con acompañamiento comprometido\, para que te abras a canalizar con todo el mimo y confianza de saber que estamos contigo a cada paso. \nEn este curso vamos a crear un espacio sagrado de expansión de tus capacidades\, donde\, además\, vamos a cuidar con atención cada una de tus experiencias. \nPara ello\, los Seres de Luz y yo misma te acompañaremos a lo largo todo el mes de Enero. A comprender\, a vivir y a confiar en esta capacidad que es tuya y te pertenece: LA CANALIZACIÓN es tu don y lo vas a comprobar. \n  \n  \n \n \n(Usar este sistema de pago si quieres financiar con tu banco) \n  \n\n¿Y si ya has cursado el curso para Aprender a Canalizar a Tu Ritmo\, pero quieres disfrutar de un mes de acompañamiento? \nQuiero decirte que puedes migrar a este curso con un descuento del 40%\, así compensas lo que invertiste en su día. Escríbeme a luz@luzyconciencia y te lo comparto. \n  \n\nSe trata de un curso de 1 mes entero de duración\, en el que vas a poder practicar: \n  \n\n\n\n\n\n. \n\n\n\n\n. \n\n\n\n\n\n\n\nLA FORMACIÓN INCLUYE:\n Liberación de clases cada lunes\, que podrás visualizar a tu ritmo y en el horario que mejor te convenga. \n 2 audios por módulo con meditaciones guiadas específicas. \n Clases en directo por Zoom los miércoles de 15.30 a 18h. (Quedarán grabadas para que puedas practicar posteriormente si no puedes venir) \n Mail de atención personal donde compartir experiencia y dudas. \n Ejercicios específicos enfocados a reforzar la canalización personal y la profesional. \n Diploma. \n Manual con todos los contenidos. \n Entrada a una comunidad privada de alumnos donde podréis compartir experiencias\, dudas e información de interés. \n Todo sin fecha de caducidad\, tienes acceso a las clases grabadas\, materiales compartidos y el grupo privado activo para siempre. \n\n   Además\, como EXTRA Te regalo una Meditación Guiada para que puedas hacerte una limpieza de aura cada vez que lo necesites para que ninguna energía te limite. \n. \nPRECIO (incluyen impuestos):\n\nPrecio por cuotas: 450€ (hasta 4 cuotas sin intereses) \nPrecio al contado (o con financieras de tu banco) 420€ \n\n. \n¿TIENES ALGUNA DUDA?\nPonte en contacto conmigo   escríbeme a luz@luzyconciencia.es \n  \n\n \n \n(Usar este sistema de pago si quieres financiar con tu banco) \n\nRecuerda que si ya has cursado el curso para Aprender a Canalizar a Tu Ritmo\, pero quieres disfrutar de un mes de acompañamiento puedes migrar a este curso con un descuento del 40%\, así compensas lo que invertiste en su día. Escríbeme a luz@luzyconciencia y te lo comparto.
URL:https://luzyconciencia.es/event/aprende-a-canalizar-con-acompanamiento/
ATTACH;FMTTYPE=image/jpeg:https://luzyconciencia.es/wp-content/uploads/2023/12/canalitzacio-ATR-600-x-600-px-2.jpg
END:VEVENT
END:VCALENDAR