BEGIN:VCALENDAR
VERSION:2.0
PRODID:-//Luz y Conciencia - ECPv6.15.20//NONSGML v1.0//EN
CALSCALE:GREGORIAN
METHOD:PUBLISH
X-ORIGINAL-URL:https://luzyconciencia.es
X-WR-CALDESC:Eventos para Luz y Conciencia
REFRESH-INTERVAL;VALUE=DURATION:PT1H
X-Robots-Tag:noindex
X-PUBLISHED-TTL:PT1H
BEGIN:VTIMEZONE
TZID:UTC
BEGIN:STANDARD
TZOFFSETFROM:+0000
TZOFFSETTO:+0000
TZNAME:UTC
DTSTART:20240101T000000
END:STANDARD
END:VTIMEZONE
BEGIN:VEVENT
DTSTART;TZID=UTC:20250801T150000
DTEND;TZID=UTC:20250801T160000
DTSTAMP:20260422T114233
CREATED:20250131T083916Z
LAST-MODIFIED:20260225T135332Z
UID:10000600-1754060400-1754064000@luzyconciencia.es
SUMMARY:EN DIRECTO con los Seres de Luz ⭐
DESCRIPTION:Cada viernes\, de 15:00h a 16:00h (hora española)\, nos reunimos en directo para canalizar a los Seres de Luz y abrir un espacio de claridad y conciencia compartida. \nSe trata de un encuentro guiado por ellos mismos\, donde cada semana comparten las enseñanzas profundas que necesitamos integrar. Se ajustan al tiempo que atravesamos: a la vibración de cada semana\, a los movimientos sociales\, a los ritmos del cielo y a los procesos internos que muchas almas están transitando. \nEs un espacio para elevar la frecuencia\, abrir el corazón y recordar quiénes somos. \nPuedes seguir el directo en:\nYouTube · Instagram · Facebook \nLos Seres de Luz y yo te esperamos ❤︎Porque cuando nos unimos en conciencia\, tu energía se nota y mucho. \n— \n🌎 Horarios aproximados en otros países (puede haber variaciones según fechas concretas): \n\n\nMéxico (CDMX): 8:00 – 9:00 \n\n\nArgentina: 11:00 – 12:00 \n\n\nEstados Unidos (EST): 9:00 – 10:00 \n\n\nEstados Unidos (PST): 6:00 – 7:00
URL:https://luzyconciencia.es/event/en-directo/2025-08-01/
ATTACH;FMTTYPE=image/jpeg:https://luzyconciencia.es/wp-content/uploads/2025/01/Titulo-Video.jpg
END:VEVENT
BEGIN:VEVENT
DTSTART;TZID=UTC:20250808T150000
DTEND;TZID=UTC:20250808T160000
DTSTAMP:20260422T114233
CREATED:20250131T083916Z
LAST-MODIFIED:20260225T135332Z
UID:10000601-1754665200-1754668800@luzyconciencia.es
SUMMARY:EN DIRECTO con los Seres de Luz ⭐
DESCRIPTION:Cada viernes\, de 15:00h a 16:00h (hora española)\, nos reunimos en directo para canalizar a los Seres de Luz y abrir un espacio de claridad y conciencia compartida. \nSe trata de un encuentro guiado por ellos mismos\, donde cada semana comparten las enseñanzas profundas que necesitamos integrar. Se ajustan al tiempo que atravesamos: a la vibración de cada semana\, a los movimientos sociales\, a los ritmos del cielo y a los procesos internos que muchas almas están transitando. \nEs un espacio para elevar la frecuencia\, abrir el corazón y recordar quiénes somos. \nPuedes seguir el directo en:\nYouTube · Instagram · Facebook \nLos Seres de Luz y yo te esperamos ❤︎Porque cuando nos unimos en conciencia\, tu energía se nota y mucho. \n— \n🌎 Horarios aproximados en otros países (puede haber variaciones según fechas concretas): \n\n\nMéxico (CDMX): 8:00 – 9:00 \n\n\nArgentina: 11:00 – 12:00 \n\n\nEstados Unidos (EST): 9:00 – 10:00 \n\n\nEstados Unidos (PST): 6:00 – 7:00
URL:https://luzyconciencia.es/event/en-directo/2025-08-08/
ATTACH;FMTTYPE=image/jpeg:https://luzyconciencia.es/wp-content/uploads/2025/01/Titulo-Video.jpg
END:VEVENT
BEGIN:VEVENT
DTSTART;TZID=UTC:20250815T150000
DTEND;TZID=UTC:20250815T160000
DTSTAMP:20260422T114233
CREATED:20250131T083916Z
LAST-MODIFIED:20260225T135332Z
UID:10000602-1755270000-1755273600@luzyconciencia.es
SUMMARY:EN DIRECTO con los Seres de Luz ⭐
DESCRIPTION:Cada viernes\, de 15:00h a 16:00h (hora española)\, nos reunimos en directo para canalizar a los Seres de Luz y abrir un espacio de claridad y conciencia compartida. \nSe trata de un encuentro guiado por ellos mismos\, donde cada semana comparten las enseñanzas profundas que necesitamos integrar. Se ajustan al tiempo que atravesamos: a la vibración de cada semana\, a los movimientos sociales\, a los ritmos del cielo y a los procesos internos que muchas almas están transitando. \nEs un espacio para elevar la frecuencia\, abrir el corazón y recordar quiénes somos. \nPuedes seguir el directo en:\nYouTube · Instagram · Facebook \nLos Seres de Luz y yo te esperamos ❤︎Porque cuando nos unimos en conciencia\, tu energía se nota y mucho. \n— \n🌎 Horarios aproximados en otros países (puede haber variaciones según fechas concretas): \n\n\nMéxico (CDMX): 8:00 – 9:00 \n\n\nArgentina: 11:00 – 12:00 \n\n\nEstados Unidos (EST): 9:00 – 10:00 \n\n\nEstados Unidos (PST): 6:00 – 7:00
URL:https://luzyconciencia.es/event/en-directo/2025-08-15/
ATTACH;FMTTYPE=image/jpeg:https://luzyconciencia.es/wp-content/uploads/2025/01/Titulo-Video.jpg
END:VEVENT
BEGIN:VEVENT
DTSTART;TZID=UTC:20250822T150000
DTEND;TZID=UTC:20250822T160000
DTSTAMP:20260422T114233
CREATED:20250131T083916Z
LAST-MODIFIED:20260225T135332Z
UID:10000603-1755874800-1755878400@luzyconciencia.es
SUMMARY:EN DIRECTO con los Seres de Luz ⭐
DESCRIPTION:Cada viernes\, de 15:00h a 16:00h (hora española)\, nos reunimos en directo para canalizar a los Seres de Luz y abrir un espacio de claridad y conciencia compartida. \nSe trata de un encuentro guiado por ellos mismos\, donde cada semana comparten las enseñanzas profundas que necesitamos integrar. Se ajustan al tiempo que atravesamos: a la vibración de cada semana\, a los movimientos sociales\, a los ritmos del cielo y a los procesos internos que muchas almas están transitando. \nEs un espacio para elevar la frecuencia\, abrir el corazón y recordar quiénes somos. \nPuedes seguir el directo en:\nYouTube · Instagram · Facebook \nLos Seres de Luz y yo te esperamos ❤︎Porque cuando nos unimos en conciencia\, tu energía se nota y mucho. \n— \n🌎 Horarios aproximados en otros países (puede haber variaciones según fechas concretas): \n\n\nMéxico (CDMX): 8:00 – 9:00 \n\n\nArgentina: 11:00 – 12:00 \n\n\nEstados Unidos (EST): 9:00 – 10:00 \n\n\nEstados Unidos (PST): 6:00 – 7:00
URL:https://luzyconciencia.es/event/en-directo/2025-08-22/
ATTACH;FMTTYPE=image/jpeg:https://luzyconciencia.es/wp-content/uploads/2025/01/Titulo-Video.jpg
END:VEVENT
BEGIN:VEVENT
DTSTART;TZID=UTC:20250829T150000
DTEND;TZID=UTC:20250829T160000
DTSTAMP:20260422T114233
CREATED:20250131T083916Z
LAST-MODIFIED:20260225T135332Z
UID:10000604-1756479600-1756483200@luzyconciencia.es
SUMMARY:EN DIRECTO con los Seres de Luz ⭐
DESCRIPTION:Cada viernes\, de 15:00h a 16:00h (hora española)\, nos reunimos en directo para canalizar a los Seres de Luz y abrir un espacio de claridad y conciencia compartida. \nSe trata de un encuentro guiado por ellos mismos\, donde cada semana comparten las enseñanzas profundas que necesitamos integrar. Se ajustan al tiempo que atravesamos: a la vibración de cada semana\, a los movimientos sociales\, a los ritmos del cielo y a los procesos internos que muchas almas están transitando. \nEs un espacio para elevar la frecuencia\, abrir el corazón y recordar quiénes somos. \nPuedes seguir el directo en:\nYouTube · Instagram · Facebook \nLos Seres de Luz y yo te esperamos ❤︎Porque cuando nos unimos en conciencia\, tu energía se nota y mucho. \n— \n🌎 Horarios aproximados en otros países (puede haber variaciones según fechas concretas): \n\n\nMéxico (CDMX): 8:00 – 9:00 \n\n\nArgentina: 11:00 – 12:00 \n\n\nEstados Unidos (EST): 9:00 – 10:00 \n\n\nEstados Unidos (PST): 6:00 – 7:00
URL:https://luzyconciencia.es/event/en-directo/2025-08-29/
ATTACH;FMTTYPE=image/jpeg:https://luzyconciencia.es/wp-content/uploads/2025/01/Titulo-Video.jpg
END:VEVENT
END:VCALENDAR