BEGIN:VCALENDAR
VERSION:2.0
PRODID:-//Luz y Conciencia - ECPv6.15.20//NONSGML v1.0//EN
CALSCALE:GREGORIAN
METHOD:PUBLISH
X-WR-CALNAME:Luz y Conciencia
X-ORIGINAL-URL:https://luzyconciencia.es
X-WR-CALDESC:Eventos para Luz y Conciencia
REFRESH-INTERVAL;VALUE=DURATION:PT1H
X-Robots-Tag:noindex
X-PUBLISHED-TTL:PT1H
BEGIN:VTIMEZONE
TZID:UTC
BEGIN:STANDARD
TZOFFSETFROM:+0000
TZOFFSETTO:+0000
TZNAME:UTC
DTSTART:20240101T000000
END:STANDARD
END:VTIMEZONE
BEGIN:VEVENT
DTSTART;TZID=UTC:20251003T150000
DTEND;TZID=UTC:20251003T160000
DTSTAMP:20260422T105437
CREATED:20250131T083916Z
LAST-MODIFIED:20260225T135332Z
UID:10000609-1759503600-1759507200@luzyconciencia.es
SUMMARY:EN DIRECTO con los Seres de Luz ⭐
DESCRIPTION:Cada viernes\, de 15:00h a 16:00h (hora española)\, nos reunimos en directo para canalizar a los Seres de Luz y abrir un espacio de claridad y conciencia compartida. \nSe trata de un encuentro guiado por ellos mismos\, donde cada semana comparten las enseñanzas profundas que necesitamos integrar. Se ajustan al tiempo que atravesamos: a la vibración de cada semana\, a los movimientos sociales\, a los ritmos del cielo y a los procesos internos que muchas almas están transitando. \nEs un espacio para elevar la frecuencia\, abrir el corazón y recordar quiénes somos. \nPuedes seguir el directo en:\nYouTube · Instagram · Facebook \nLos Seres de Luz y yo te esperamos ❤︎Porque cuando nos unimos en conciencia\, tu energía se nota y mucho. \n— \n🌎 Horarios aproximados en otros países (puede haber variaciones según fechas concretas): \n\n\nMéxico (CDMX): 8:00 – 9:00 \n\n\nArgentina: 11:00 – 12:00 \n\n\nEstados Unidos (EST): 9:00 – 10:00 \n\n\nEstados Unidos (PST): 6:00 – 7:00
URL:https://luzyconciencia.es/event/en-directo/2025-10-03/
ATTACH;FMTTYPE=image/jpeg:https://luzyconciencia.es/wp-content/uploads/2025/01/Titulo-Video.jpg
END:VEVENT
BEGIN:VEVENT
DTSTART;TZID=UTC:20251010T150000
DTEND;TZID=UTC:20251010T160000
DTSTAMP:20260422T105437
CREATED:20250131T083916Z
LAST-MODIFIED:20260225T135332Z
UID:10000610-1760108400-1760112000@luzyconciencia.es
SUMMARY:EN DIRECTO con los Seres de Luz ⭐
DESCRIPTION:Cada viernes\, de 15:00h a 16:00h (hora española)\, nos reunimos en directo para canalizar a los Seres de Luz y abrir un espacio de claridad y conciencia compartida. \nSe trata de un encuentro guiado por ellos mismos\, donde cada semana comparten las enseñanzas profundas que necesitamos integrar. Se ajustan al tiempo que atravesamos: a la vibración de cada semana\, a los movimientos sociales\, a los ritmos del cielo y a los procesos internos que muchas almas están transitando. \nEs un espacio para elevar la frecuencia\, abrir el corazón y recordar quiénes somos. \nPuedes seguir el directo en:\nYouTube · Instagram · Facebook \nLos Seres de Luz y yo te esperamos ❤︎Porque cuando nos unimos en conciencia\, tu energía se nota y mucho. \n— \n🌎 Horarios aproximados en otros países (puede haber variaciones según fechas concretas): \n\n\nMéxico (CDMX): 8:00 – 9:00 \n\n\nArgentina: 11:00 – 12:00 \n\n\nEstados Unidos (EST): 9:00 – 10:00 \n\n\nEstados Unidos (PST): 6:00 – 7:00
URL:https://luzyconciencia.es/event/en-directo/2025-10-10/
ATTACH;FMTTYPE=image/jpeg:https://luzyconciencia.es/wp-content/uploads/2025/01/Titulo-Video.jpg
END:VEVENT
BEGIN:VEVENT
DTSTART;TZID=UTC:20251017T150000
DTEND;TZID=UTC:20251017T160000
DTSTAMP:20260422T105437
CREATED:20250131T083916Z
LAST-MODIFIED:20260225T135332Z
UID:10000611-1760713200-1760716800@luzyconciencia.es
SUMMARY:EN DIRECTO con los Seres de Luz ⭐
DESCRIPTION:Cada viernes\, de 15:00h a 16:00h (hora española)\, nos reunimos en directo para canalizar a los Seres de Luz y abrir un espacio de claridad y conciencia compartida. \nSe trata de un encuentro guiado por ellos mismos\, donde cada semana comparten las enseñanzas profundas que necesitamos integrar. Se ajustan al tiempo que atravesamos: a la vibración de cada semana\, a los movimientos sociales\, a los ritmos del cielo y a los procesos internos que muchas almas están transitando. \nEs un espacio para elevar la frecuencia\, abrir el corazón y recordar quiénes somos. \nPuedes seguir el directo en:\nYouTube · Instagram · Facebook \nLos Seres de Luz y yo te esperamos ❤︎Porque cuando nos unimos en conciencia\, tu energía se nota y mucho. \n— \n🌎 Horarios aproximados en otros países (puede haber variaciones según fechas concretas): \n\n\nMéxico (CDMX): 8:00 – 9:00 \n\n\nArgentina: 11:00 – 12:00 \n\n\nEstados Unidos (EST): 9:00 – 10:00 \n\n\nEstados Unidos (PST): 6:00 – 7:00
URL:https://luzyconciencia.es/event/en-directo/2025-10-17/
ATTACH;FMTTYPE=image/jpeg:https://luzyconciencia.es/wp-content/uploads/2025/01/Titulo-Video.jpg
END:VEVENT
BEGIN:VEVENT
DTSTART;TZID=UTC:20251024T150000
DTEND;TZID=UTC:20251024T160000
DTSTAMP:20260422T105437
CREATED:20250131T083916Z
LAST-MODIFIED:20260225T135332Z
UID:10000612-1761318000-1761321600@luzyconciencia.es
SUMMARY:EN DIRECTO con los Seres de Luz ⭐
DESCRIPTION:Cada viernes\, de 15:00h a 16:00h (hora española)\, nos reunimos en directo para canalizar a los Seres de Luz y abrir un espacio de claridad y conciencia compartida. \nSe trata de un encuentro guiado por ellos mismos\, donde cada semana comparten las enseñanzas profundas que necesitamos integrar. Se ajustan al tiempo que atravesamos: a la vibración de cada semana\, a los movimientos sociales\, a los ritmos del cielo y a los procesos internos que muchas almas están transitando. \nEs un espacio para elevar la frecuencia\, abrir el corazón y recordar quiénes somos. \nPuedes seguir el directo en:\nYouTube · Instagram · Facebook \nLos Seres de Luz y yo te esperamos ❤︎Porque cuando nos unimos en conciencia\, tu energía se nota y mucho. \n— \n🌎 Horarios aproximados en otros países (puede haber variaciones según fechas concretas): \n\n\nMéxico (CDMX): 8:00 – 9:00 \n\n\nArgentina: 11:00 – 12:00 \n\n\nEstados Unidos (EST): 9:00 – 10:00 \n\n\nEstados Unidos (PST): 6:00 – 7:00
URL:https://luzyconciencia.es/event/en-directo/2025-10-24/
ATTACH;FMTTYPE=image/jpeg:https://luzyconciencia.es/wp-content/uploads/2025/01/Titulo-Video.jpg
END:VEVENT
BEGIN:VEVENT
DTSTART;TZID=UTC:20251031T150000
DTEND;TZID=UTC:20251031T160000
DTSTAMP:20260422T105437
CREATED:20250131T083916Z
LAST-MODIFIED:20260225T135332Z
UID:10000613-1761922800-1761926400@luzyconciencia.es
SUMMARY:EN DIRECTO con los Seres de Luz ⭐
DESCRIPTION:Cada viernes\, de 15:00h a 16:00h (hora española)\, nos reunimos en directo para canalizar a los Seres de Luz y abrir un espacio de claridad y conciencia compartida. \nSe trata de un encuentro guiado por ellos mismos\, donde cada semana comparten las enseñanzas profundas que necesitamos integrar. Se ajustan al tiempo que atravesamos: a la vibración de cada semana\, a los movimientos sociales\, a los ritmos del cielo y a los procesos internos que muchas almas están transitando. \nEs un espacio para elevar la frecuencia\, abrir el corazón y recordar quiénes somos. \nPuedes seguir el directo en:\nYouTube · Instagram · Facebook \nLos Seres de Luz y yo te esperamos ❤︎Porque cuando nos unimos en conciencia\, tu energía se nota y mucho. \n— \n🌎 Horarios aproximados en otros países (puede haber variaciones según fechas concretas): \n\n\nMéxico (CDMX): 8:00 – 9:00 \n\n\nArgentina: 11:00 – 12:00 \n\n\nEstados Unidos (EST): 9:00 – 10:00 \n\n\nEstados Unidos (PST): 6:00 – 7:00
URL:https://luzyconciencia.es/event/en-directo/2025-10-31/
ATTACH;FMTTYPE=image/jpeg:https://luzyconciencia.es/wp-content/uploads/2025/01/Titulo-Video.jpg
END:VEVENT
END:VCALENDAR